BEGIN:VCALENDAR
VERSION:2.0
PRODID:-//Main Street Revolution - ECPv6.15.20//NONSGML v1.0//EN
CALSCALE:GREGORIAN
METHOD:PUBLISH
X-ORIGINAL-URL:https://mainstreetrev.com
X-WR-CALDESC:Events for Main Street Revolution
REFRESH-INTERVAL;VALUE=DURATION:PT1H
X-Robots-Tag:noindex
X-PUBLISHED-TTL:PT1H
BEGIN:VTIMEZONE
TZID:UTC
BEGIN:STANDARD
TZOFFSETFROM:+0000
TZOFFSETTO:+0000
TZNAME:UTC
DTSTART:20240101T000000
END:STANDARD
END:VTIMEZONE
BEGIN:VEVENT
DTSTART;TZID=UTC:20250911T110000
DTEND;TZID=UTC:20250911T130000
DTSTAMP:20260420T101502
CREATED:20250903T161832Z
LAST-MODIFIED:20250903T162802Z
UID:877-1757588400-1757595600@mainstreetrev.com
SUMMARY:“Stop Selling\, Start Connecting”
DESCRIPTION:Sales shouldn’t feel fake. And yet\, for most small business owners . . . it does. \nYou believe in what you offer\, but the moment you have to talk price\, ask for the sale\, or face objections\, it gets uncomfortable. You overtalk. You freeze. You feel like you’re coming across as pushy or “salesy.” \nMost entrepreneurs try to sell the way they like to buy and lose deals in the process. The truth is\, not everyone thinks like you… and when you don’t speak your client’s language\, trust breaks\, and the sale slips away. \nIt’s time to flip that script. \nIn this workshop\, “Stop Selling\, Start Connecting\,” you’ll learn the DiSC Communication Formula . \nA powerful framework to: √ Instantly recognize your prospect’s buying style √ Communicate with confidence\, clarity\, and purpose √ Handle objections without sounding defensive or desperate √ Sell authentically \, without feeling like a salesperson √ Close more deals\, gain more clients\, and grow your income fast \nThis isn’t about “scripting” your way through a pitch. It’s about rewiring how you connect with others \, so sales becomes natural\, conversations flow\, and your confidence skyrockets. \nWith just a few powerful communication shifts\, your business can grow exponentially. \nBecause when selling feels like you\, it works like magic. \nREGISTER FOR FREE HERE \nLearn More About Stefani
URL:https://mainstreetrev.com/event/stop-selling-start-connecting/
LOCATION:New Location: Platinum Bank\, 505 Waterford Park\, Plymouth\, MN\, 55441\, United States
ATTACH;FMTTYPE=image/png:https://mainstreetrev.com/wp-content/uploads/2022/10/MSR-Sept25.png
END:VEVENT
END:VCALENDAR