BEGIN:VCALENDAR
VERSION:2.0
PRODID:-//Main Street Revolution - ECPv6.15.20//NONSGML v1.0//EN
CALSCALE:GREGORIAN
METHOD:PUBLISH
X-WR-CALNAME:Main Street Revolution
X-ORIGINAL-URL:https://mainstreetrev.com
X-WR-CALDESC:Events for Main Street Revolution
REFRESH-INTERVAL;VALUE=DURATION:PT1H
X-Robots-Tag:noindex
X-PUBLISHED-TTL:PT1H
BEGIN:VTIMEZONE
TZID:America/Chicago
BEGIN:DAYLIGHT
TZOFFSETFROM:-0600
TZOFFSETTO:-0500
TZNAME:CDT
DTSTART:20240310T080000
END:DAYLIGHT
BEGIN:STANDARD
TZOFFSETFROM:-0500
TZOFFSETTO:-0600
TZNAME:CST
DTSTART:20241103T070000
END:STANDARD
BEGIN:DAYLIGHT
TZOFFSETFROM:-0600
TZOFFSETTO:-0500
TZNAME:CDT
DTSTART:20250309T080000
END:DAYLIGHT
BEGIN:STANDARD
TZOFFSETFROM:-0500
TZOFFSETTO:-0600
TZNAME:CST
DTSTART:20251102T070000
END:STANDARD
BEGIN:DAYLIGHT
TZOFFSETFROM:-0600
TZOFFSETTO:-0500
TZNAME:CDT
DTSTART:20260308T080000
END:DAYLIGHT
BEGIN:STANDARD
TZOFFSETFROM:-0500
TZOFFSETTO:-0600
TZNAME:CST
DTSTART:20261101T070000
END:STANDARD
END:VTIMEZONE
BEGIN:VEVENT
DTSTART;TZID=America/Chicago:20250710T110000
DTEND;TZID=America/Chicago:20250710T133000
DTSTAMP:20260420T145217
CREATED:20250329T174557Z
LAST-MODIFIED:20250630T223023Z
UID:839-1752145200-1752154200@mainstreetrev.com
SUMMARY:Protecting Yourself from Cyber Threats!
DESCRIPTION:Protecting Yourself from Cyber Threats!\nAre you aware of the hidden dangers lurking in the digital world? \nAre you aware of the hidden dangers lurking in the digital world? \nIn today’s interconnected world\, small businesses are not immune to cybersecurity threats. This presentation aims to enlighten small business owners about the real and present danger of cyber breaches. By understanding the scope of risks\, available mitigation strategies\, and the consequences of an attack\, businesses can better prepare and protect themselves. \nLearn how to: \n\nDelve into practical insights and actionable steps to safeguard your business from the ever-evolving landscape of cyber threats.\nEnlighten small business owners about the real and present danger of cyber breaches.\nUnderstand the scope of risks\, available mitigation strategies\, and the consequences of an attack.\nBetter prepare and protect businesses.\n\nJoin us to gain invaluable insights and practical tips to safeguard your business in today’s digital age! \nRegistration Here
URL:https://mainstreetrev.com/event/protection-against-identity-theft-professionally-personally/
LOCATION:New Location: Platinum Bank\, 505 Waterford Park\, Plymouth\, MN\, 55441\, United States
ATTACH;FMTTYPE=image/jpeg:https://mainstreetrev.com/wp-content/uploads/2022/10/Troy-Solis.jpeg
END:VEVENT
END:VCALENDAR