BEGIN:VCALENDAR
VERSION:2.0
PRODID:-//Main Street Revolution - ECPv6.15.20//NONSGML v1.0//EN
CALSCALE:GREGORIAN
METHOD:PUBLISH
X-WR-CALNAME:Main Street Revolution
X-ORIGINAL-URL:https://mainstreetrev.com
X-WR-CALDESC:Events for Main Street Revolution
REFRESH-INTERVAL;VALUE=DURATION:PT1H
X-Robots-Tag:noindex
X-PUBLISHED-TTL:PT1H
BEGIN:VTIMEZONE
TZID:America/Chicago
BEGIN:DAYLIGHT
TZOFFSETFROM:-0600
TZOFFSETTO:-0500
TZNAME:CDT
DTSTART:20240310T080000
END:DAYLIGHT
BEGIN:STANDARD
TZOFFSETFROM:-0500
TZOFFSETTO:-0600
TZNAME:CST
DTSTART:20241103T070000
END:STANDARD
BEGIN:DAYLIGHT
TZOFFSETFROM:-0600
TZOFFSETTO:-0500
TZNAME:CDT
DTSTART:20250309T080000
END:DAYLIGHT
BEGIN:STANDARD
TZOFFSETFROM:-0500
TZOFFSETTO:-0600
TZNAME:CST
DTSTART:20251102T070000
END:STANDARD
BEGIN:DAYLIGHT
TZOFFSETFROM:-0600
TZOFFSETTO:-0500
TZNAME:CDT
DTSTART:20260308T080000
END:DAYLIGHT
BEGIN:STANDARD
TZOFFSETFROM:-0500
TZOFFSETTO:-0600
TZNAME:CST
DTSTART:20261101T070000
END:STANDARD
END:VTIMEZONE
BEGIN:VEVENT
DTSTART;TZID=America/Chicago:20250508T110000
DTEND;TZID=America/Chicago:20250508T133000
DTSTAMP:20260422T112030
CREATED:20250329T174041Z
LAST-MODIFIED:20250429T202048Z
UID:837-1746702000-1746711000@mainstreetrev.com
SUMMARY:“The Myths of Self-Actualization”
DESCRIPTION:Self-Actualization\, or the fulfillment of one’s complete potential has unfortunately been subject to oversimplification and gimmicks. Too many people misconstrue it as goal achievement\, rather than a lifelong journey to become one’s best human self. \nThis session will at least provoke you\, and hopefully motivate you to construct your own process of self-improvement. \nHow would my Self-Actualization journey develop if: \n\n\n\n\n\nI  sharpen my Self-Awareness?\n\n\n\n\n\n\nI clarify my Aspirations?\n\n\n\n\n\n\nI Align more constructive behaviors to support the person I want to be?\n\n\n\n\n\n\nI continually Adapt to a world that always changes?\n\n\n\n\n\nJOIN US to find out! \nSee Jon’s Bio \nREGISTER HERE
URL:https://mainstreetrev.com/event/the-myths-of-self-actualization/
LOCATION:New Location: Platinum Bank\, 505 Waterford Park\, Plymouth\, MN\, 55441\, United States
ATTACH;FMTTYPE=image/jpeg:https://mainstreetrev.com/wp-content/uploads/2022/10/JSH-Headshopt-photo-scaled.jpg
END:VEVENT
END:VCALENDAR