BEGIN:VCALENDAR
VERSION:2.0
PRODID:-//Main Street Revolution - ECPv6.15.20//NONSGML v1.0//EN
CALSCALE:GREGORIAN
METHOD:PUBLISH
X-ORIGINAL-URL:https://mainstreetrev.com
X-WR-CALDESC:Events for Main Street Revolution
REFRESH-INTERVAL;VALUE=DURATION:PT1H
X-Robots-Tag:noindex
X-PUBLISHED-TTL:PT1H
BEGIN:VTIMEZONE
TZID:America/Chicago
BEGIN:DAYLIGHT
TZOFFSETFROM:-0600
TZOFFSETTO:-0500
TZNAME:CDT
DTSTART:20240310T080000
END:DAYLIGHT
BEGIN:STANDARD
TZOFFSETFROM:-0500
TZOFFSETTO:-0600
TZNAME:CST
DTSTART:20241103T070000
END:STANDARD
BEGIN:DAYLIGHT
TZOFFSETFROM:-0600
TZOFFSETTO:-0500
TZNAME:CDT
DTSTART:20250309T080000
END:DAYLIGHT
BEGIN:STANDARD
TZOFFSETFROM:-0500
TZOFFSETTO:-0600
TZNAME:CST
DTSTART:20251102T070000
END:STANDARD
BEGIN:DAYLIGHT
TZOFFSETFROM:-0600
TZOFFSETTO:-0500
TZNAME:CDT
DTSTART:20260308T080000
END:DAYLIGHT
BEGIN:STANDARD
TZOFFSETFROM:-0500
TZOFFSETTO:-0600
TZNAME:CST
DTSTART:20261101T070000
END:STANDARD
END:VTIMEZONE
BEGIN:VEVENT
DTSTART;TZID=America/Chicago:20250410T110000
DTEND;TZID=America/Chicago:20250410T133000
DTSTAMP:20260422T143433
CREATED:20250329T171152Z
LAST-MODIFIED:20250329T174216Z
UID:834-1744282800-1744291800@mainstreetrev.com
SUMMARY:Peacefully Coexisting with Conflict through Curiosity and Skepticism
DESCRIPTION:A Different Approach \nWhen was the last time you called someone to tell them that you were wrong? We’re so fixated on our truths that we don’t have the latitude to create room for others’ truths. The result is that we can no longer talk with people with whom we disagree\, to the point of estranging friends\, co-workers\, and even family. The divide is vast and\, when taken in the context of our time on earth\, unnecessary. \nTaking a different approach to navigating conflicting viewpoints is probably necessary\, as the way things are going now\, we’re going in the wrong direction. Adapting a new mindset and becoming very intentional about the usefulness of curiosity and skepticism will open lines of communication\, not necessarily to come to a consensus on the truth\, but to be more comfortable with points of view that conflict with your own. Resolving conflict might not be an achievable outcome\, but peacefully co-existing with it is very possible. \n\nWhat role can ambivalence play in your ability to not place a stake in the ground?\nWhat are good questions to ask that inspire deeper thinking in people on the “other side?”\nWithout a doubt\, we have fears playing in the background that are destructive to meaningful discourse. What can we do about them?\nIs it possible to win an argument without the other person losing?\n\nJOIN US to find out! \nSee Howie’s Bio \nRegister for This Event Here
URL:https://mainstreetrev.com/event/peacefully-coexisting-with-conflict-through-curiosity-and-skepticism/
LOCATION:New Location: Platinum Bank\, 505 Waterford Park\, Plymouth\, MN\, 55441\, United States
ATTACH;FMTTYPE=image/png:https://mainstreetrev.com/wp-content/uploads/2022/10/MSR-April-2025.png
END:VEVENT
END:VCALENDAR