BEGIN:VCALENDAR
VERSION:2.0
PRODID:-//Main Street Revolution - ECPv6.15.20//NONSGML v1.0//EN
CALSCALE:GREGORIAN
METHOD:PUBLISH
X-ORIGINAL-URL:https://mainstreetrev.com
X-WR-CALDESC:Events for Main Street Revolution
REFRESH-INTERVAL;VALUE=DURATION:PT1H
X-Robots-Tag:noindex
X-PUBLISHED-TTL:PT1H
BEGIN:VTIMEZONE
TZID:America/Chicago
BEGIN:DAYLIGHT
TZOFFSETFROM:-0600
TZOFFSETTO:-0500
TZNAME:CDT
DTSTART:20240310T080000
END:DAYLIGHT
BEGIN:STANDARD
TZOFFSETFROM:-0500
TZOFFSETTO:-0600
TZNAME:CST
DTSTART:20241103T070000
END:STANDARD
BEGIN:DAYLIGHT
TZOFFSETFROM:-0600
TZOFFSETTO:-0500
TZNAME:CDT
DTSTART:20250309T080000
END:DAYLIGHT
BEGIN:STANDARD
TZOFFSETFROM:-0500
TZOFFSETTO:-0600
TZNAME:CST
DTSTART:20251102T070000
END:STANDARD
BEGIN:DAYLIGHT
TZOFFSETFROM:-0600
TZOFFSETTO:-0500
TZNAME:CDT
DTSTART:20260308T080000
END:DAYLIGHT
BEGIN:STANDARD
TZOFFSETFROM:-0500
TZOFFSETTO:-0600
TZNAME:CST
DTSTART:20261101T070000
END:STANDARD
END:VTIMEZONE
BEGIN:VEVENT
DTSTART;TZID=America/Chicago:20250313T110000
DTEND;TZID=America/Chicago:20250313T133000
DTSTAMP:20260422T160351
CREATED:20250223T174039Z
LAST-MODIFIED:20250329T174153Z
UID:826-1741863600-1741872600@mainstreetrev.com
SUMMARY:Your Human Edge: The Most Overlooked Business Asset
DESCRIPTION:Maximizing Business Success Through Health \nIn this insightful presentation\, Michael Krug sheds light on the most overlooked asset in business—your health. Michael explores how maintaining peak physical health gives business leaders a competitive edge\, influencing their confidence\, leadership\, and overall capacity to navigate today’s dynamic economy. He introduces the Performance Triangle framework\, a powerful tool that demonstrates how physical energy\, mental clarity\, and emotional resilience directly impact business performance. He also presents the Business Case for Wellness\, highlighting the return on investment\, risk management\, and cultural benefits of prioritizing health within an organization. Attendees will walk away with actionable strategies to immediately improve both their personal well-being and the success of their business. This talk is a must for any entrepreneur looking to elevate performance and sustain long-term success. \nSee Michael’s Bio \nRegister for This Event Here
URL:https://mainstreetrev.com/event/your-human-edge-the-most-overlooked-business-asset/
LOCATION:New Location: Platinum Bank\, 505 Waterford Park\, Plymouth\, MN\, 55441\, United States
ATTACH;FMTTYPE=image/png:https://mainstreetrev.com/wp-content/uploads/2025/02/MSR-March.png
END:VEVENT
END:VCALENDAR