BEGIN:VCALENDAR
VERSION:2.0
PRODID:-//Main Street Revolution - ECPv6.15.20//NONSGML v1.0//EN
CALSCALE:GREGORIAN
METHOD:PUBLISH
X-WR-CALNAME:Main Street Revolution
X-ORIGINAL-URL:https://mainstreetrev.com
X-WR-CALDESC:Events for Main Street Revolution
REFRESH-INTERVAL;VALUE=DURATION:PT1H
X-Robots-Tag:noindex
X-PUBLISHED-TTL:PT1H
BEGIN:VTIMEZONE
TZID:UTC
BEGIN:STANDARD
TZOFFSETFROM:+0000
TZOFFSETTO:+0000
TZNAME:UTC
DTSTART:20250101T000000
END:STANDARD
END:VTIMEZONE
BEGIN:VEVENT
DTSTART;TZID=UTC:20260212T110000
DTEND;TZID=UTC:20260212T130000
DTSTAMP:20260423T012630
CREATED:20260131T191954Z
LAST-MODIFIED:20260131T191954Z
UID:916-1770894000-1770901200@mainstreetrev.com
SUMMARY:Escaping the "Groundhog Year" : Unlocking Forward Momentum
DESCRIPTION:Escaping the “Groundhog Year” is a powerful\, interactive personal-development luncheon designed to help professionals break out of repetitive behavior patterns and step into intentional growth. Inspired by the idea of avoiding a life that feels like Groundhog Day\, where the same habits keep you stuck and progress feels elusive\, this event brings together three dynamic speakers who will equip you with practical tools\, mindset shifts\, and real-world strategies to create meaningful change in both your personal and professional life. Main Street Revolution \nAt this luncheon\, you’ll learn how to: \n\nRecognize and disrupt limiting habits that keep you circling the same outcomes year after year.\nBuild new behaviors that align with your goals\, turning intention into action and progress.\nCultivate resilience\, clarity\, and purpose so you can move forward with confidence rather than repeat old patterns.\n\nIn addition to the inspiring presentations\, the event offers a welcoming space for networking\, connection\, and shared reflection with peers who are also committed to personal transformation. Whether you’re seeking fresh momentum in your career\, leadership\, or life direction\, this Main Street Revolution event will help you begin the year with renewed focus and intentional growth. \nJoin us for an engaging\, uplifting experience designed to help you make 2026 your year of growth and success. \nRegister Today!  \n  \n*There is limited seating\, and registration will be closed when we hit our capacity for this event. If this event is SOLD OUT\, please contact Melissa at Melissa@ZirbesGroup.com to find out your options.
URL:https://mainstreetrev.com/event/escaping-the-groundhog-year-unlocking-forward-momentum/
LOCATION:New Location\, 8201 Penn Avenue S\, Bloomington\, MN\, 55431\, United States
ATTACH;FMTTYPE=image/jpeg:https://mainstreetrev.com/wp-content/uploads/2026/01/woodchuck-7475898_1280.jpg
END:VEVENT
BEGIN:VEVENT
DTSTART;TZID=UTC:20260312T110000
DTEND;TZID=UTC:20260312T130000
DTSTAMP:20260423T012630
CREATED:20260221T000608Z
LAST-MODIFIED:20260221T000608Z
UID:924-1773313200-1773320400@mainstreetrev.com
SUMMARY:Beating Imposter Syndrome in Business
DESCRIPTION:Despite success\, many entrepreneurs quietly question their worth. In this session\, Peter Beaumont sheds light on Imposter Syndrome\, the feeling of being a fraud despite evidence of ability. \nTailored for business owners and solo leaders\, this talk will explore the causes\, types\, and consequences of impostor thinking and offer clear\, actionable strategies to overcome it. Peter will also show how the StoryBrand framework can help reframe your narrative and unlock the confidence to lead and grow with purpose. \nKey Takeaways & Deliverables \n\nRecognize the signs and root causes of impostor syndrome\nLearn the five types of impostor personas based on Dr. Valerie Young’s research\nDiscover strategies to build lasting confidence and overcome limiting beliefs\nExplore how the StoryBrand method helps clarify your business message and boost your self-belief\nLeave with a clear framework to connect with clients and position yourself as a trusted expert\n\nRegister Today!  \n  \n*There is limited seating\, and registration will be closed when we hit our capacity for this event. If this event is SOLD OUT\, please contact Melissa at Melissa@ZirbesGroup.com to find out your options.
URL:https://mainstreetrev.com/event/beating-imposter-sydrome-in-business/
LOCATION:New Location\, 8201 Penn Avenue S\, Bloomington\, MN\, 55431\, United States
ATTACH;FMTTYPE=image/jpeg:https://mainstreetrev.com/wp-content/uploads/2026/02/Peter-Beaumont.jpg
END:VEVENT
BEGIN:VEVENT
DTSTART;TZID=UTC:20260409T110000
DTEND;TZID=UTC:20260409T130000
DTSTAMP:20260423T012630
CREATED:20260406T160125Z
LAST-MODIFIED:20260406T161430Z
UID:930-1775732400-1775739600@mainstreetrev.com
SUMMARY:The Value Odyssey: Identifying the Real Value of Your Offering
DESCRIPTION:The Value Odyssey: Identifying the REAL Value of Your Offering \nMany business folks believe they have a good handle on the Value they provide to their customers. They often have a well-crafted Value Proposition and a well-practiced Elevator Speech. In fact\, their REAL Value may actually be more…or less…than they believe. \nThe Value Odyssey is an opportunity to take a closer and more informed look at the Value you are currently providing and identify additional Value you could provide. The result will be a more intentional approach to providing real Value for your customers\, and more success for your business. \n  \nRegister Today!  \n  \n*There is limited seating\, and registration will be closed when we hit our capacity for this event. If this event is SOLD OUT\, please contact Melissa at Melissa@ZirbesGroup.com to find out your options.
URL:https://mainstreetrev.com/event/the-value-odyssey-identifying-the-real-value-of-your-offering/
LOCATION:New Location\, 8201 Penn Avenue S\, Bloomington\, MN\, 55431\, United States
ATTACH;FMTTYPE=image/jpeg:https://mainstreetrev.com/wp-content/uploads/2022/10/2024-Ronn-Lehmann.jpg
END:VEVENT
BEGIN:VEVENT
DTSTART;TZID=UTC:20260514T110000
DTEND;TZID=UTC:20260514T130000
DTSTAMP:20260423T012630
CREATED:20260422T222903Z
LAST-MODIFIED:20260422T222903Z
UID:935-1778756400-1778763600@mainstreetrev.com
SUMMARY:STOP Selling\, START Connecting!
DESCRIPTION:Stop Selling\, Start Connecting! \nIf you’ve ever believed in your offer but froze when it came time to talk price\, ask for the sale\, or handle objections\, you’re not alone. Most business owners were never taught how to sell in a way that feels natural\, confident\, and authentic. \nSo you overtalk. You hesitate. You worry about being pushy. People don’t buy when they understand you. They buy when they feel understood. \nThat’s where the CONVERT Method changes everything. \nIn Stop Selling\, Start Connecting\, you’ll learn how to: \n\nBuild trust fast using the Connect & Observe phases\nAdapt to DiSC communication styles so your message lands\nAsk powerful questions that uncover real buying motives\nHandle objections with confidence\, not pressure\nTurn conversations into paying clients\n\nLed by Stefani Havel\, is the Creator of the CONVERT Framework. This workshop blends behavioral science\, emotional intelligence\, and proven sales psychology to help you connect and convert. \nReady to ditch the scripts and close with confidence in 2026? \nJoin STOP Selling\, START Connecting! \n  \nThere’s nothing to purchase. Just come ready to learn\, connect\, and be inspired! We are excited to offer a dynamic presentation and a light lunch\, so arrive early and stay a bit later if time allows to make valuable connections. \nThis Month’s Agenda: \n* 11:00 AM – Doors OPEN\, Venue Sponsor – Jeff Colquette \nLunch Sponsors – Kristin Kingsbury with Barna\, Guzy & Steffen \n* 11:15AM – Introduction to Main Street Revolution \n* 11:45 AM – Speaker – Stefani Havel \n* 1:00 PM – Open Networking \nDon’t miss out! Reserve your spot today! \nAbout Stefani Havel:\nStefani Havel is a seasoned sales leader\, speaker\, and trainer with more than 25 years of experience helping individuals and organizations grow through stronger communication and relationship-driven sales strategies. Known for her engaging and relatable style\, she combines real-world expertise with proven frameworks like DiSC and emotional intelligence to help professionals connect more effectively\, lead with confidence\, and achieve sustainable results. what he has learned to helping organizations and individuals to achieve their goals. \n  \nRegister Today!  \n  \n*There is limited seating\, and registration will be closed when we hit our capacity for this event. If this event is SOLD OUT\, please contact Melissa at Melissa@ZirbesGroup.com to find out your options.
URL:https://mainstreetrev.com/event/stop-selling-start-connecting-2/
LOCATION:New Location\, 8201 Penn Avenue S\, Bloomington\, MN\, 55431\, United States
ATTACH;FMTTYPE=image/png:https://mainstreetrev.com/wp-content/uploads/2022/10/Stefani.png
END:VEVENT
END:VCALENDAR