BEGIN:VCALENDAR
VERSION:2.0
PRODID:-//Main Street Revolution - ECPv6.15.20//NONSGML v1.0//EN
CALSCALE:GREGORIAN
METHOD:PUBLISH
X-WR-CALNAME:Main Street Revolution
X-ORIGINAL-URL:https://mainstreetrev.com
X-WR-CALDESC:Events for Main Street Revolution
REFRESH-INTERVAL;VALUE=DURATION:PT1H
X-Robots-Tag:noindex
X-PUBLISHED-TTL:PT1H
BEGIN:VTIMEZONE
TZID:America/Chicago
BEGIN:DAYLIGHT
TZOFFSETFROM:-0600
TZOFFSETTO:-0500
TZNAME:CDT
DTSTART:20230312T080000
END:DAYLIGHT
BEGIN:STANDARD
TZOFFSETFROM:-0500
TZOFFSETTO:-0600
TZNAME:CST
DTSTART:20231105T070000
END:STANDARD
BEGIN:DAYLIGHT
TZOFFSETFROM:-0600
TZOFFSETTO:-0500
TZNAME:CDT
DTSTART:20240310T080000
END:DAYLIGHT
BEGIN:STANDARD
TZOFFSETFROM:-0500
TZOFFSETTO:-0600
TZNAME:CST
DTSTART:20241103T070000
END:STANDARD
BEGIN:DAYLIGHT
TZOFFSETFROM:-0600
TZOFFSETTO:-0500
TZNAME:CDT
DTSTART:20250309T080000
END:DAYLIGHT
BEGIN:STANDARD
TZOFFSETFROM:-0500
TZOFFSETTO:-0600
TZNAME:CST
DTSTART:20251102T070000
END:STANDARD
END:VTIMEZONE
BEGIN:VEVENT
DTSTART;TZID=America/Chicago:20241010T110000
DTEND;TZID=America/Chicago:20241010T130000
DTSTAMP:20260421T060127
CREATED:20240920T211412Z
LAST-MODIFIED:20240920T211412Z
UID:772-1728558000-1728565200@mainstreetrev.com
SUMMARY:“I Don’t Wanna!”
DESCRIPTION:I Don’t Wanna\nDoes it seem that there’s a lot of Change in the world? And does it seem to be coming faster and faster? The specific changes are often unpredictable\, but what is predictable is how we humans respond to change. \nIn “I Don’t Wanna!”\, Ronn Lehmann will present the nature of Change\, and how it affects humans and organizations. With stories\, examples\, insights\, and maybe a few laughs\, Ronn will explain how we can better respond to Change\, and help others to do the same. \nIf you want to find better ways to deal with Change for yourself\, or have clients you are asking to change\, this presentation will be right up your street. \nPLEASE JOIN US – REGISTER HERE \nRonn’s Bio
URL:https://mainstreetrev.com/event/i-dont-wanna/
LOCATION:New Location: Platinum Bank\, 505 Waterford Park\, Plymouth\, MN\, 55441\, United States
ATTACH;FMTTYPE=image/png:https://mainstreetrev.com/wp-content/uploads/2024/09/Screenshot-2024-09-20-at-4.13.00-PM.png
END:VEVENT
END:VCALENDAR