BEGIN:VCALENDAR
VERSION:2.0
PRODID:-//Main Street Revolution - ECPv6.15.20//NONSGML v1.0//EN
CALSCALE:GREGORIAN
METHOD:PUBLISH
X-WR-CALNAME:Main Street Revolution
X-ORIGINAL-URL:https://mainstreetrev.com
X-WR-CALDESC:Events for Main Street Revolution
REFRESH-INTERVAL;VALUE=DURATION:PT1H
X-Robots-Tag:noindex
X-PUBLISHED-TTL:PT1H
BEGIN:VTIMEZONE
TZID:America/Chicago
BEGIN:DAYLIGHT
TZOFFSETFROM:-0600
TZOFFSETTO:-0500
TZNAME:CDT
DTSTART:20240310T080000
END:DAYLIGHT
BEGIN:STANDARD
TZOFFSETFROM:-0500
TZOFFSETTO:-0600
TZNAME:CST
DTSTART:20241103T070000
END:STANDARD
BEGIN:DAYLIGHT
TZOFFSETFROM:-0600
TZOFFSETTO:-0500
TZNAME:CDT
DTSTART:20250309T080000
END:DAYLIGHT
BEGIN:STANDARD
TZOFFSETFROM:-0500
TZOFFSETTO:-0600
TZNAME:CST
DTSTART:20251102T070000
END:STANDARD
BEGIN:DAYLIGHT
TZOFFSETFROM:-0600
TZOFFSETTO:-0500
TZNAME:CDT
DTSTART:20260308T080000
END:DAYLIGHT
BEGIN:STANDARD
TZOFFSETFROM:-0500
TZOFFSETTO:-0600
TZNAME:CST
DTSTART:20261101T070000
END:STANDARD
END:VTIMEZONE
BEGIN:VEVENT
DTSTART;TZID=America/Chicago:20250109T113000
DTEND;TZID=America/Chicago:20250109T130000
DTSTAMP:20260422T234925
CREATED:20250104T171240Z
LAST-MODIFIED:20250127T164153Z
UID:802-1736422200-1736427600@mainstreetrev.com
SUMMARY:How Will 2025 Be Different?
DESCRIPTION:How Will 2025 Be Different?\nStaus quo is the enemy of success! What are the things you will change this year to ensure positive outcomes? \nOr will habit win out? \nBreak out of the chains of mediocrity! Learn to make a difference in your life this year. Ronn will teach us: \n\nA model for how to get RESULTS\nHow to get the RESULTS you want\nFEAR: The biggest barrier to getting the RESULTS you want\n\nPLEASE JOIN US – REGISTER HERE \nRonn’s Bio
URL:https://mainstreetrev.com/event/how-will-2025-be-different/
LOCATION:Edina Library\, 5280 Grandview Square\, Edina\, Minnesota\, 55346
ATTACH;FMTTYPE=image/png:https://mainstreetrev.com/wp-content/uploads/2025/01/how-will-be-2025-be-different.png
END:VEVENT
END:VCALENDAR