BEGIN:VCALENDAR
VERSION:2.0
PRODID:-//Main Street Revolution - ECPv6.15.20//NONSGML v1.0//EN
CALSCALE:GREGORIAN
METHOD:PUBLISH
X-WR-CALNAME:Main Street Revolution
X-ORIGINAL-URL:https://mainstreetrev.com
X-WR-CALDESC:Events for Main Street Revolution
REFRESH-INTERVAL;VALUE=DURATION:PT1H
X-Robots-Tag:noindex
X-PUBLISHED-TTL:PT1H
BEGIN:VTIMEZONE
TZID:America/Chicago
BEGIN:DAYLIGHT
TZOFFSETFROM:-0600
TZOFFSETTO:-0500
TZNAME:CDT
DTSTART:20230312T080000
END:DAYLIGHT
BEGIN:STANDARD
TZOFFSETFROM:-0500
TZOFFSETTO:-0600
TZNAME:CST
DTSTART:20231105T070000
END:STANDARD
BEGIN:DAYLIGHT
TZOFFSETFROM:-0600
TZOFFSETTO:-0500
TZNAME:CDT
DTSTART:20240310T080000
END:DAYLIGHT
BEGIN:STANDARD
TZOFFSETFROM:-0500
TZOFFSETTO:-0600
TZNAME:CST
DTSTART:20241103T070000
END:STANDARD
BEGIN:DAYLIGHT
TZOFFSETFROM:-0600
TZOFFSETTO:-0500
TZNAME:CDT
DTSTART:20250309T080000
END:DAYLIGHT
BEGIN:STANDARD
TZOFFSETFROM:-0500
TZOFFSETTO:-0600
TZNAME:CST
DTSTART:20251102T070000
END:STANDARD
END:VTIMEZONE
BEGIN:VEVENT
DTSTART;TZID=America/Chicago:20241212T110000
DTEND;TZID=America/Chicago:20241212T130000
DTSTAMP:20260422T223409
CREATED:20241202T173611Z
LAST-MODIFIED:20241207T184411Z
UID:788-1734001200-1734008400@mainstreetrev.com
SUMMARY:Protect Your Business from Cyber Threats
DESCRIPTION:Protecting Your Business from Cyber Threats!\npresented by: Chris Sappington \nAre you aware of the hidden dangers lurking in the digital world? \nDiscover why businesses\, especially small ones\, are prime targets for cyberattacks and how these attacks can lead to devastating financial and reputational damage. Learn what not to do and how to create game-changers in fortifying your defenses. \n\nDo You Have a Security-First Mindset?\nUnderstanding attackers\, their motivations\, and types of attacks.\nIdentify the Unique Risks for Micro & Small Businesses: Understand the specific vulnerabilities that make smaller enterprises attractive targets for cybercriminals.\nHow to Plan Ahead for a Breach: Learn the importance of having robust cybersecurity measures in place to not only strengthen your security posture but also to minimize losses in the event of a breach.\n\nJoin us to gain invaluable insights and practical tips to safeguard your business in today’s digital age! \nPLEASE JOIN US – REGISTER HERE \nChris Sappington Bio
URL:https://mainstreetrev.com/event/protect-your-business-from-cyber-threats/
LOCATION:Edina Library\, 5280 Grandview Square\, Edina\, Minnesota\, 55346
ATTACH;FMTTYPE=image/png:https://mainstreetrev.com/wp-content/uploads/2024/12/Screenshot-2024-12-07-at-12.27.15-PM.png
END:VEVENT
END:VCALENDAR